BEGIN:VCALENDAR
VERSION:2.0
PRODID:-//westhouse Augsburg - ECPv6.15.20//NONSGML v1.0//EN
CALSCALE:GREGORIAN
METHOD:PUBLISH
X-WR-CALNAME:westhouse Augsburg
X-ORIGINAL-URL:https://westhouse-augsburg.de
X-WR-CALDESC:Veranstaltungen für westhouse Augsburg
REFRESH-INTERVAL;VALUE=DURATION:PT1H
X-Robots-Tag:noindex
X-PUBLISHED-TTL:PT1H
BEGIN:VTIMEZONE
TZID:Europe/Berlin
BEGIN:DAYLIGHT
TZOFFSETFROM:+0100
TZOFFSETTO:+0200
TZNAME:CEST
DTSTART:20240331T010000
END:DAYLIGHT
BEGIN:STANDARD
TZOFFSETFROM:+0200
TZOFFSETTO:+0100
TZNAME:CET
DTSTART:20241027T010000
END:STANDARD
BEGIN:DAYLIGHT
TZOFFSETFROM:+0100
TZOFFSETTO:+0200
TZNAME:CEST
DTSTART:20250330T010000
END:DAYLIGHT
BEGIN:STANDARD
TZOFFSETFROM:+0200
TZOFFSETTO:+0100
TZNAME:CET
DTSTART:20251026T010000
END:STANDARD
BEGIN:DAYLIGHT
TZOFFSETFROM:+0100
TZOFFSETTO:+0200
TZNAME:CEST
DTSTART:20260329T010000
END:DAYLIGHT
BEGIN:STANDARD
TZOFFSETFROM:+0200
TZOFFSETTO:+0100
TZNAME:CET
DTSTART:20261025T010000
END:STANDARD
BEGIN:DAYLIGHT
TZOFFSETFROM:+0100
TZOFFSETTO:+0200
TZNAME:CEST
DTSTART:20270328T010000
END:DAYLIGHT
BEGIN:STANDARD
TZOFFSETFROM:+0200
TZOFFSETTO:+0100
TZNAME:CET
DTSTART:20271031T010000
END:STANDARD
END:VTIMEZONE
BEGIN:VEVENT
DTSTART;TZID=Europe/Berlin:20260420T173000
DTEND;TZID=Europe/Berlin:20260420T210000
DTSTAMP:20260421T115735
CREATED:20260318T104927Z
LAST-MODIFIED:20260318T120945Z
UID:10000442-1776706200-1776718800@westhouse-augsburg.de
SUMMARY:Future Ready: Mitarbeitende aktivieren\, Innovation beschleunigen
DESCRIPTION:FUTURE WEEK SPECIAL \nFuture Ready: Mitarbeitende aktivieren\, Innovation beschleunigen \nDieses Event richtet sich besonders an Führungskräfte\, Unternehmer:innen und HR Professionals\, die Mitarbeitenden-Events neu denken wollen: weg vom reinen Programmpunkt\, hin zu einem Format mit echter Wirkung für Kultur\, Zusammenarbeit und Zukunftsfähigkeit. \nMitarbeitenden-Events sind heute mehr als ein Nice-to-have. \nViele Unternehmensveranstaltungen folgen einem vertrauten Muster: Informationen werden vermittelt\, aktuelle Themen präsentiert und ein guter gemeinsamer Abend geschaffen. Das kann inspirieren\, wirkt aber oft nur kurzfristig und verpufft schnell im Alltag. \nHeute braucht es mehr als das. Wenn Unternehmen Zeit und Budget investieren\, dürfen Formate nicht nur informieren und unterhalten\, sondern Beteiligung aktivieren\, relevante Themen bearbeiten und echte Wirkung entfalten. \nGenau das zeigt unser Event mit der Masterclass: \nTeilnehmende erleben\, wie Mitarbeitenden-Events anders gestaltet werden können: interaktiv\, aktivierend und so aufgebaut\, dass alle eingebunden werden. In Arbeitsinseln werden konkrete Unternehmensthemen bearbeitet\, Perspektiven zusammengebracht und Lösungen gemeinsam entwickelt. \nSo wird erlebbar\, wie Formate Beteiligung stärken\, Kommunikation auf Augenhöhe fördern und Zusammenarbeit nachhaltig verbessern – mit mehr Mitgestaltung und mehr Wertschöpfung für das Unternehmen. \nIn der Masterclass bekommst Du nicht nur Impulse\, sondern erlebst selbst\, wie aktivierende Formate wirken: praxisnah\, verbindend und co-kreativ. Du nimmst konkrete Ansätze mit\, wie Mitarbeitenden-Events zu einem Hebel für Kultur\, neue Ideen und positiver Aufbruchstimmung werden. \nDas Besondere: Die Verbindung aus Erlebnis\, Reflexion und direkter Übertragbarkeit in den Unternehmensalltag. \nWas Du mitnimmst\n\nEin klares Verständnis dafür\, wie Mitarbeitenden-Events zu einem wirksamen Hebel für Kultur\, Zusammenarbeit und Innovation werden\nKonkrete Impulse für mehr Beteiligung\, Identifikation und neue Ansätze\nPerspektiven\, wie interne Formate auch die Außenwirkung und Arbeitgebermarke stärken\nKonkrete Denkanstöße für Umsetzung im eigenen Unternehmen\n\nDiese Fragen beantwortet die Masterclass\n\nWarum verpuffen klassische Mitarbeitenden-Events oft schnell?\nWie entsteht aus Beteiligung ein messbarer Mehrwert für das Unternehmen?\nWie lassen sich konkrete Unternehmensthemen gemeinsam bearbeiten?\nWas brauchen Unternehmen\, damit Mitarbeitende nicht nur teilnehmen\, sondern mitgestalten?\nWie können interne Formate zugleich die Arbeitgebermarke und Außenwirkung stärken?\n\nEine Location\, die Teil des Erlebnisses ist\nGemeinsam mit unserem Partner westhouse findet das Event in einem Umfeld statt\, das Austausch\, Perspektivwechsel und gemeinsames Arbeiten auf besondere Weise unterstützt. \nDenn der richtige Raum ist mehr als nur Kulisse.\nEr schafft die Atmosphäre\, in der Offenheit\, Verbindung und neue Ideen entstehen können. \nKundenstimme aus dem letzten Jahr\n„Mir war gar nicht klar\, wie sehr ich das gebraucht habe – so einen Abend\, der inspiriert und gleichzeitig grounded.“ \nHighlights\n\nBegrüßung: empoweRISE & westhouse\nInteraktive Masterclass / Workshop: Team empoweRISE\nLocation-Partner: westhouse GmbH\n\nPartner & Sponsoring Partner\nFuture Week Augsburg\, westhouse GmbH\, Brain&Heart\, Onfluid\, dnsign \nJetzt Platz sichern\nErlebe\, wie aus Mitarbeitendenformaten echte Innovationsräume werden — mit Wirkung nach innen und Strahlkraft nach außen. \nJetzt anmelden – die Plätze sind limitiert.
URL:https://westhouse-augsburg.de/event/future-ready-mitarbeitende-aktivieren-innovation-beschleunigen/
LOCATION:westhouse Augsburg (Eingang 5)\, Alfred-Nobel-Str. 5\, Augsburg\, Bayern\, 86156\, Deutschland
CATEGORIES:Live-Event,Masterclass
ATTACH;FMTTYPE=image/jpeg:https://westhouse-augsburg.de/wp-content/uploads/2026/03/Kein-Titel-1436-x-1114-px.jpg
ORGANIZER;CN="westhouse GmbH":MAILTO:info@westhouse-augsburg.de
END:VEVENT
BEGIN:VEVENT
DTSTART;TZID=Europe/Berlin:20251122T180000
DTEND;TZID=Europe/Berlin:20251122T193000
DTSTAMP:20260421T115735
CREATED:20251029T092848Z
LAST-MODIFIED:20251029T092848Z
UID:10000430-1763834400-1763839800@westhouse-augsburg.de
SUMMARY:5 Jahre westhouse
DESCRIPTION:5 Jahre westhouse Augsburg  – Open House & Empfang\n \nSamstag\, 22. November 2025 \nielleicht habt ihr es schon gehört: Im November feiern wir 5 Jahre westhouse-Augsburg. Einen besonderen Moment westhouse-Geschichte\, den wir gerne mit euch teilen möchten. \nGemeinsam mit dem Hotel „einsmehr“ und „Meikes Schmeckerei“\, der Kirche im westhouse\, der westhouse Community e.V. und allen\, die das Leben im westhouse jeden Tag zu etwas Besonderem machen\, laden wir euch deshalb ganz herzlich ein: \nFeiert mit uns am 22. November 2025 ab 18:00 Uhr fünf Jahre westhouse! \nAn diesem besonderen Tag könnt ihr das westhouse live und in Farbe erleben. Im Seminarbereich im 1. OG\, in der Lobby des Hotel einsmehr und im Foyer erwarten euch Häppchen\, Getränke und jede Menge Begegnungen. \nDirekt im Anschluss\, ab 19:30 Uhr erwartet euch dann das Benefizkonzert des Pop- & Gospelchors „Voices of Joy“ in unserem großen Saal »Anna Maria« zugunsten des Vereins einsmehr e.V. und der westhouse community e.V. \nWenn ihr beim Konzert dabei sein wollt\, bitten wir euch um eine kurze Anmeldung. Natürlich kostenlos und auf Spendenbasis vor Ort.
URL:https://westhouse-augsburg.de/event/5-jahre-westhouse/
LOCATION:westhouse Augsburg (Eingang 5)\, Alfred-Nobel-Str. 5\, Augsburg\, Bayern\, 86156\, Deutschland
CATEGORIES:Live-Event
ATTACH;FMTTYPE=image/jpeg:https://westhouse-augsburg.de/wp-content/uploads/2025/10/Veranstaltungen-Werbung-BS.jpg
ORGANIZER;CN="westhouse GmbH":MAILTO:info@westhouse-augsburg.de
END:VEVENT
BEGIN:VEVENT
DTSTART;TZID=Europe/Berlin:20251122T180000
DTEND;TZID=Europe/Berlin:20251122T193000
DTSTAMP:20260421T115735
CREATED:20251024T114758Z
LAST-MODIFIED:20251104T113238Z
UID:10000429-1763834400-1763839800@westhouse-augsburg.de
SUMMARY:Vernissage zur Ausstellung "Blickfang"
DESCRIPTION:RAUM FÜR KUNST„Die Kunst\, die richtige Farbe auf den richtigen Fleck zu setzen\, läßt mich immer wieder ans Werk genen\, inspiriert mich immer wieder\, neue Bilder entstehen zu lassen. Durch mein Eingreifen verändert sich das Bild laufend und ich reagiere auf die Veränderungen so lange\, bis ich das Gefühl habe\, jetzt ist es fertig. \nVielschichtiges Arbeiten\, wie der Wechsel von zeichnerischen und malerischen Schritten\, das Setzen von Linien und Farbflächen\, spachteln und kratzen\, Collagen und Lasuren\, spontane Impulse einfließen lassen und immer wieder neue Farbkompositionen kombinieren… somit die Verdichtung des Bildes erreichen – und es  zu meinem Bild werden lassen…“ \nSusanne Salvermoser \nDie Werke von Susanne Salvermoser waren schon in zahlreichen Ausstellungen rund um Augsburg zu sehen. Von der Hessingpark Klinik bis zum Rathaus in Aichach und jetzt bereits zum zweiten Mal im westhouse Augsburg. \nWILLKOMMEN IM WESTHOUSE\nSusanne Salvermoser \n\nBlickfang\nGenau das sind die Werke von Susanne Salvermoser und ihr könnt sie im Zuge der 5-Jahres-Feier im westhouse live erleben und mit der Künstlerin ins Gespräch kommen. \nEine Vernissage der besonderen Art. Denn durch die Verflechtung mit dem Jubiläumsprogramm begegnen sich nicht nur die Kunstliebhaber und die Künstlerin\, sondern auch interessierte Laien an einem Ort. \nSeid dabei und erlebt die großartigen Motive von Susanne Salvermoser am 22. November ab 18:00 Uhr.
URL:https://westhouse-augsburg.de/event/vernissage-blickfang/
LOCATION:westhouse Augsburg (Eingang 5)\, Alfred-Nobel-Str. 5\, Augsburg\, Bayern\, 86156\, Deutschland
CATEGORIES:Live-Event
ATTACH;FMTTYPE=image/webp:https://westhouse-augsburg.de/wp-content/uploads/2025/10/Ausstellung-Blickfang-Salvermoser.webp
ORGANIZER;CN="westhouse GmbH":MAILTO:info@westhouse-augsburg.de
END:VEVENT
BEGIN:VEVENT
DTSTART;TZID=Europe/Berlin:20251122T180000
DTEND;TZID=Europe/Berlin:20251122T180000
DTSTAMP:20260421T115735
CREATED:20250930T072039Z
LAST-MODIFIED:20251029T092914Z
UID:10000426-1763834400-1763834400@westhouse-augsburg.de
SUMMARY:Voices of Joy – Benefizkonzert 5 Jahre westhouse Augsburg & einsmehr Hotel
DESCRIPTION:Benefizkonzert Voices of Joy – 5 Jahre westhouse Augsburg & Hotel einsmehr \n22. November 2025\, 19:30 Uhr \nwesthouse Augsburg\, Saal »Anna Maria« \nDas westhouse Augsburg wird 5 Jahre. Am 22. November 2025 feiern wir gemeinsam mit dem Hotel einsmehr\, Meikes Schmeckerei\, der Kirche im westhouse und der Westhouse Community e.V. unser Jubiläum. Neben einem Open-House inklusive Vernissage ab 18:00 Uhr gibt es ab 19:30 Uhr noch das Highlight des Abends. Ein Benefizkonzert im Saal »Anna Maria« zugunsten des Vereins einsmehr e.V. und der Westhouse Communty e.V. \nMitreißend und voller Energie – so klingen die Voices of Joy. Der Augsburger Pop- & Gospelchor bringt ein abwechslungsreiches Programm aus Pop-Hits\, gefühlvollen Balladen und schwungvollen Gospels auf die Bühne. Neben beliebten Klassikern wie Ain’t no mountain high enough\, Revelation und Stücken aus Sister Act werden mit  Shackles und The show must go on auch neue Lieder zu hören sein. Freuen Sie sich auf ein besonderes Konzert und leisten Sie mit einer Spende für den Verein einsmehr e.V. und die Westhouse Community e.V. zudem noch einen wertvollen Beitrag für Inklusion\, Toleranz und Gemeinschaft!  \nIhr seid herzlich eingeladen! Wenn ihr beim Konzert dabei sein wollt\, könnt ihr euch hier anmelden. Der Eintritt ist frei.
URL:https://westhouse-augsburg.de/event/voices-of-joy-benefizkonzert-5-jahre-westhouse-augsburg-einsmehr-hotel/
LOCATION:westhouse Augsburg (Eingang 5)\, Alfred-Nobel-Str. 5\, Augsburg\, Bayern\, 86156\, Deutschland
ATTACH;FMTTYPE=image/jpeg:https://westhouse-augsburg.de/wp-content/uploads/2025/09/Voices-of-Joy-1.jpg
ORGANIZER;CN="westhouse community e.V.":MAILTO:info@westhouse-community.de
END:VEVENT
BEGIN:VEVENT
DTSTART;VALUE=DATE:20251027
DTEND;VALUE=DATE:20260403
DTSTAMP:20260421T115735
CREATED:20251029T090541Z
LAST-MODIFIED:20251104T113337Z
UID:10000431-1761541200-1775105999@westhouse-augsburg.de
SUMMARY:Ausstellung "Blickfang"
DESCRIPTION:RAUM FÜR KUNST„Die Kunst\, die richtige Farbe auf den richtigen Fleck zu setzen\, läßt mich immer wieder ans Werk genen\, inspiriert mich immer wieder\, neue Bilder entstehen zu lassen. Durch mein Eingreifen verändert sich das Bild laufend und ich reagiere auf die Veränderungen so lange\, bis ich das Gefühl habe\, jetzt ist es fertig. \nVielschichtiges Arbeiten\, wie der Wechsel von zeichnerischen und malerischen Schritten\, das Setzen von Linien und Farbflächen\, spachteln und kratzen\, Collagen und Lasuren\, spontane Impulse einfließen lassen und immer wieder neue Farbkompositionen kombinieren… somit die Verdichtung des Bildes erreichen – und es  zu meinem Bild werden lassen…“ \nSusanne Salvermoser \nDie Werke von Susanne Salvermoser waren schon in zahlreichen Ausstellungen rund um Augsburg zu sehen. Von der Hessingpark Klinik bis zum Rathaus in Aichach und jetzt im westhouse Augsburg. \nWILLKOMMEN IM WESTHOUSE\nSusanne Salvermoser \n\nBlickfang\nGenau das sind die Werke von Susanne Salvermoser und ihr könnt sie ab sofort im westhouse erleben. \nVon Oktober 2025 bis April 2026 verschönern die mal mehr\, mal weniger abstrakten Acrylbilder unser Haus. Wir freuen uns\, dass wir Susanne Salvermoser und Ihre vielseitigen Motive bereits zum zweiten Mal im westhouse begrüßen dürfen.
URL:https://westhouse-augsburg.de/event/blickfang/
LOCATION:westhouse Augsburg (Eingang 5)\, Alfred-Nobel-Str. 5\, Augsburg\, Bayern\, 86156\, Deutschland
CATEGORIES:Ausstellung
ATTACH;FMTTYPE=image/webp:https://westhouse-augsburg.de/wp-content/uploads/2025/10/Ausstellung-Blickfang-Salvermoser.webp
ORGANIZER;CN="westhouse GmbH":MAILTO:info@westhouse-augsburg.de
END:VEVENT
BEGIN:VEVENT
DTSTART;VALUE=DATE:20250220
DTEND;VALUE=DATE:20251021
DTSTAMP:20260421T115735
CREATED:20250212T124631Z
LAST-MODIFIED:20251020T121721Z
UID:10000392-1740027600-1760936399@westhouse-augsburg.de
SUMMARY:Ausstellung S[ch]ichtweise
DESCRIPTION:RAUM FÜR KUNSTWILLKOMMEN IM WESTHOUSE\nEdyta Deniz-Deluga & Brigitte Weber \n\nS[ch]ichtweise\n»Sichtweise – Schichtweise“ ist nicht nur eine visuelle Erfahrung\, sondern auch eine Einladung\, über die Vielfalt der Wahrnehmung und die Tiefe der künstlerischen Ausdrucksformen nachzudenken.« \nZwei Künstlerinnen präsentieren ihre unterschiedlichen Interpretationen und Perspektiven zum Thema der Ausstellung. \nEs entsteht ein spannender Dialog zwischen dynamischen\, farbintensiven Arbeiten und vielschichtigen\, subtilen Bildern. \n\n\nKÜNSTLERIN Edyta Deniz-DelugaMalerei\n»In meiner Acrylmalerei habe ich mich vom Expressionismus leiten lassen und ein bildgewaltiges Werk geschaffen\, das sich durch lebendige Farben und dynamische Striche auszeichnet. Die Emotionen\, die ich während des Schaffensprozesses empfand\, sind in jedem Pinselstrich spürbar. Dieses Kunstwerk soll den Betrachter berühren und eine kraftvolle\, inspirierende Energie in ihr oder sein Zuhause bringen..« \nEdyta Deniz-Deluga arbeitet hauptsächlich in Mischtechnik\, vereint Malerei und Siebdruck und kreiert so einzigartige visuelle Erlebnisse. \nIn ihren Kunstwerken kombiniert sie expressive Pinselstriche mit kräftigen Farben\, wodurch eine pastose Oberflächengestaltung entsteht\, die Zeit und Emotionen einfängt. Ihre Arbeiten rühren an den verborgenen Schichten der Seele\, evozieren Erinnerungen und offenbaren tiefe\,\noft neu bewertete Gefühle. \nVita\nSeit 2014 ist Edyta Deniz-Deluga als freischaffende Künstlerin tätig. Sowohl autodidaktisch als auch durch zahlreiche Seminare und Studienjahre eignete sie sich ihr künstlerisches Wissen an. Zudem absolvierte sie ein Fernstudium in Malerei. \nEdyta Deniz-Deluga ist Mitglied im Berufsverband Bildender Künstler sowie in den Kunstvereinen Gersthofen und Kissing. \nDie Künstlergruppe SPUR21 wurde im Jahr 2021 gegründet. Edyta Deniz-Deluga präsentiert ihre Werke in zahlreichen Ausstellungen\, vorwiegend in Deutschland\, aber auch in Frankreich\, Italien\, den USA und China. \nEdyta Deniz-Deluga | edytadeniz-deluga.de \nKÜNSTLERIN Brigitte WeberAcrylmalerei\n»Ich bevorzuge ein schnelles zügiges Arbeiten. Ich skizziere nur selten\, sondern arbeite fast immer direkt auf der Leinwand. Meine Bilder bestehen aus zahlreichen\nFarbaufträgen. Die Wirkung eines Bildes kann allein durch die Farbe bestimmt werden\, durch den Einsatz bestimmter Farben wird Spannung oder Harmonie erzeugt\, es entstehen Licht- und Schattenzonen und natürlich auch die Form. Nach und nach entstehen so lebendige\, strukturierte Bildoberflächen. Ich mag es zwischen allen Facetten der Acrylmalerei zu wechseln\, arbeite also auch mit Collagen\, Wachs und Pigmenten.« \nVita\nBrigitte Weber ist eine vielseitige Künstlerin\, die ihre Fähigkeiten sowohl autodidaktisch als auch durch Teilnahme an Seminaren und Meisterkursen entwickelt hat. Ihre langjährige Erfahrung und Expertise in der Acrylmalerei spiegeln sich in ihrer Arbeit wider. \nihre Werke wurden mit dem Kunstpreis der Stadt Neusäß im Jahr 2011 ausgezeichnet und sie ist Mitglied im Berufsverband Bildender Künstler sowie im Kunstverein Augsburg\, Neusäß und Bobingen. 2021 wurde die Künstlergruppe SPUR21 gegründet. \nIn zahlreichen Einzelausstellungen und Ausstellungsbeteiligungen zeigt Brigitte Weber ihre Werke hauptsächlich im süddeutschen Raum. \nBrigitte Weber | weber-kunst.de
URL:https://westhouse-augsburg.de/event/ausstellung-schichtweise/
LOCATION:westhouse Augsburg (Eingang 5)\, Alfred-Nobel-Str. 5\, Augsburg\, Bayern\, 86156\, Deutschland
CATEGORIES:Ausstellung
ATTACH;FMTTYPE=image/jpeg:https://westhouse-augsburg.de/wp-content/uploads/2025/02/Ausstellung-Schichtweise.jpg
ORGANIZER;CN="westhouse GmbH":MAILTO:info@westhouse-augsburg.de
END:VEVENT
END:VCALENDAR