BEGIN:VCALENDAR
VERSION:2.0
PRODID:-//westhouse Augsburg - ECPv6.15.20//NONSGML v1.0//EN
CALSCALE:GREGORIAN
METHOD:PUBLISH
X-WR-CALNAME:westhouse Augsburg
X-ORIGINAL-URL:https://westhouse-augsburg.de
X-WR-CALDESC:Veranstaltungen für westhouse Augsburg
REFRESH-INTERVAL;VALUE=DURATION:PT1H
X-Robots-Tag:noindex
X-PUBLISHED-TTL:PT1H
BEGIN:VTIMEZONE
TZID:Europe/Berlin
BEGIN:DAYLIGHT
TZOFFSETFROM:+0100
TZOFFSETTO:+0200
TZNAME:CEST
DTSTART:20250330T010000
END:DAYLIGHT
BEGIN:STANDARD
TZOFFSETFROM:+0200
TZOFFSETTO:+0100
TZNAME:CET
DTSTART:20251026T010000
END:STANDARD
BEGIN:DAYLIGHT
TZOFFSETFROM:+0100
TZOFFSETTO:+0200
TZNAME:CEST
DTSTART:20260329T010000
END:DAYLIGHT
BEGIN:STANDARD
TZOFFSETFROM:+0200
TZOFFSETTO:+0100
TZNAME:CET
DTSTART:20261025T010000
END:STANDARD
BEGIN:DAYLIGHT
TZOFFSETFROM:+0100
TZOFFSETTO:+0200
TZNAME:CEST
DTSTART:20270328T010000
END:DAYLIGHT
BEGIN:STANDARD
TZOFFSETFROM:+0200
TZOFFSETTO:+0100
TZNAME:CET
DTSTART:20271031T010000
END:STANDARD
END:VTIMEZONE
BEGIN:VEVENT
DTSTART;TZID=Europe/Berlin:20261219T140000
DTEND;TZID=Europe/Berlin:20261219T140000
DTSTAMP:20260421T235914
CREATED:20260420T133123Z
LAST-MODIFIED:20260420T133452Z
UID:10000447-1797688800-1797688800@westhouse-augsburg.de
SUMMARY:Kinderballett Nussknacker
DESCRIPTION:Das Kinderballett „Der Nussknacker“ ist eine festliche Bühnenproduktion mit professionellen Ballettkünstlern und jungen Talenten aus deutschen Ballettschulen. Die Aufführung verbindet klassisches Spitzenniveau mit der besonderen Magie junger Tänzerinnen und Tänzer auf der Bühne. \nDieses einzigartige Weihnachtserlebnis richtet sich an die ganze Familie – an Liebhaber des klassischen Balletts ebenso wie an Kinder\, die von der märchenhaften Welt verzaubert werden. \nAm Weihnachtsabend geschieht ein Wunder: Clara begegnet dem tapferen Nussknacker\, der sie vor dem Mäusekönig beschützt. Gemeinsam beginnen sie eine zauberhafte Reise\, in der in der Heiligen Nacht Träume wahr werden. \nEintritt frei für Kinder bis 3 Jahre.
URL:https://westhouse-augsburg.de/event/kinderballett-nussknacker/
LOCATION:westhouse Augsburg (Eingang 5)\, Alfred-Nobel-Str. 5\, Augsburg\, Bayern\, 86156\, Deutschland
CATEGORIES:Konzert,Live-Event
ATTACH;FMTTYPE=image/webp:https://westhouse-augsburg.de/wp-content/uploads/2026/04/Kinderballett-Nussknacker.webp
ORGANIZER;CN="Internationale Ballettschule Alte Heide M%C3%BCnchen":MAILTO:info@internationale-ballettschule.de
END:VEVENT
END:VCALENDAR