BEGIN:VCALENDAR
VERSION:2.0
PRODID:-//westhouse Augsburg - ECPv6.15.20//NONSGML v1.0//EN
CALSCALE:GREGORIAN
METHOD:PUBLISH
X-WR-CALNAME:westhouse Augsburg
X-ORIGINAL-URL:https://westhouse-augsburg.de
X-WR-CALDESC:Veranstaltungen für westhouse Augsburg
REFRESH-INTERVAL;VALUE=DURATION:PT1H
X-Robots-Tag:noindex
X-PUBLISHED-TTL:PT1H
BEGIN:VTIMEZONE
TZID:Europe/Berlin
BEGIN:DAYLIGHT
TZOFFSETFROM:+0100
TZOFFSETTO:+0200
TZNAME:CEST
DTSTART:20240331T010000
END:DAYLIGHT
BEGIN:STANDARD
TZOFFSETFROM:+0200
TZOFFSETTO:+0100
TZNAME:CET
DTSTART:20241027T010000
END:STANDARD
BEGIN:DAYLIGHT
TZOFFSETFROM:+0100
TZOFFSETTO:+0200
TZNAME:CEST
DTSTART:20250330T010000
END:DAYLIGHT
BEGIN:STANDARD
TZOFFSETFROM:+0200
TZOFFSETTO:+0100
TZNAME:CET
DTSTART:20251026T010000
END:STANDARD
BEGIN:DAYLIGHT
TZOFFSETFROM:+0100
TZOFFSETTO:+0200
TZNAME:CEST
DTSTART:20260329T010000
END:DAYLIGHT
BEGIN:STANDARD
TZOFFSETFROM:+0200
TZOFFSETTO:+0100
TZNAME:CET
DTSTART:20261025T010000
END:STANDARD
END:VTIMEZONE
BEGIN:VEVENT
DTSTART;TZID=Europe/Berlin:20250610T110000
DTEND;TZID=Europe/Berlin:20250612T150000
DTSTAMP:20260425T014317
CREATED:20250515T134726Z
LAST-MODIFIED:20250515T134726Z
UID:10000402-1749553200-1749740400@westhouse-augsburg.de
SUMMARY:Ferien-Kurs „Sommer in der Stadt"
DESCRIPTION:Ferien-Kurs für Kinder\n3-tägiger Kreativkurs für Kinder\n10. Juni bis 12. Juni jeweils von 11 bis 15 UHR im westhouse Augsburg\, Alfred-Nobel-Str. 5 \nIn den Pfingstferien wird es im westhouse in Augsburg ein kreatives Ferienprogramm geben. Der Ferien-Kurs „Sommer in der Stadt“ ist für Kinder im Alter von 7 – 12 Jahren gedacht. Unter kunstpädagogischer Anleitung lernen die Kinder Skizzieren\, Modellieren und Glasmalerei. Das Programm soll Kindern helfen\, nicht nur ihre kreativen Fähigkeiten zu entwickeln\, sondern auch zu lernen im Team zu arbeiten\, Emotionen durch Kunst auszudrücken und ihre Talente zu entdecken. \nDer Ferienkurs ist ein Kooperationsprojekt der westhouse community e.V. mit dem Christlichen Integrationszentrum Augsburg e.V. (CIZ) und wird gefördert durch die Michael Wagner Stiftung Kinderlachen und die Stadtsparkasse Augsburg. \nDie Teilnahmegebühr incl. der Materialkosten beträgt 30 Euro – für Geschwister 20 Euro. \nAnmeldung und Rückfragen unter Tel. 0821/89983092 im CIZ. \nPresse verantwortlich: Alexander Matiask
URL:https://westhouse-augsburg.de/event/ferien-kurs-sommer-in-der-stadt/
LOCATION:westhouse Augsburg (Eingang 5)\, Alfred-Nobel-Str. 5\, Augsburg\, Bayern\, 86156\, Deutschland
CATEGORIES:Live-Event
ATTACH;FMTTYPE=image/webp:https://westhouse-augsburg.de/wp-content/uploads/2025/05/EinladungKinderkurs2025.webp
END:VEVENT
END:VCALENDAR