BEGIN:VCALENDAR
VERSION:2.0
PRODID:-//westhouse Augsburg - ECPv6.15.20//NONSGML v1.0//EN
CALSCALE:GREGORIAN
METHOD:PUBLISH
X-WR-CALNAME:westhouse Augsburg
X-ORIGINAL-URL:https://westhouse-augsburg.de
X-WR-CALDESC:Veranstaltungen für westhouse Augsburg
REFRESH-INTERVAL;VALUE=DURATION:PT1H
X-Robots-Tag:noindex
X-PUBLISHED-TTL:PT1H
BEGIN:VTIMEZONE
TZID:Europe/Berlin
BEGIN:DAYLIGHT
TZOFFSETFROM:+0100
TZOFFSETTO:+0200
TZNAME:CEST
DTSTART:20250330T010000
END:DAYLIGHT
BEGIN:STANDARD
TZOFFSETFROM:+0200
TZOFFSETTO:+0100
TZNAME:CET
DTSTART:20251026T010000
END:STANDARD
BEGIN:DAYLIGHT
TZOFFSETFROM:+0100
TZOFFSETTO:+0200
TZNAME:CEST
DTSTART:20260329T010000
END:DAYLIGHT
BEGIN:STANDARD
TZOFFSETFROM:+0200
TZOFFSETTO:+0100
TZNAME:CET
DTSTART:20261025T010000
END:STANDARD
BEGIN:DAYLIGHT
TZOFFSETFROM:+0100
TZOFFSETTO:+0200
TZNAME:CEST
DTSTART:20270328T010000
END:DAYLIGHT
BEGIN:STANDARD
TZOFFSETFROM:+0200
TZOFFSETTO:+0100
TZNAME:CET
DTSTART:20271031T010000
END:STANDARD
END:VTIMEZONE
BEGIN:VEVENT
DTSTART;TZID=Europe/Berlin:20260411T193000
DTEND;TZID=Europe/Berlin:20260411T204500
DTSTAMP:20260424T203352
CREATED:20260122T115341Z
LAST-MODIFIED:20260122T115341Z
UID:10000437-1775935800-1775940300@westhouse-augsburg.de
SUMMARY:The Jury Experience: Diamanten\, Lügen und ein toter Mann
DESCRIPTION:Interaktives Theater-Event im westhouse augsburgTauche ein in ein außergewöhnliches Live-Erlebnis und werde selbst Teil einer Gerichtsverhandlung:Bei „The Jury Experience: Diamanten\, Lügen und ein toter Mann“ nimmst du als Geschworene:r Platz\, analysierst Beweise\, hörst Zeugenaussagen und entscheidest am Ende über Schuld oder Unschuld. Dieses interaktive Theaterformat verbindet Spannung\, Drama und Mitbestimmung auf einzigartige Weise – live im westhouse augsburg. \nWas ist The Jury Experience?The Jury Experience ist ein immersives Theater-Event\, bei dem das Publikum aktiv in die Handlung eingebunden wird. Im Mittelpunkt steht ein mysteriöser Mordfall rund um eine verschwundene Diamantenkette im Wert von 20 Millionen Dollar. Jede Entscheidung der Jury beeinflusst den Ausgang der Geschichte. \nDas erwartet dich im westhouse\nInteraktives Theater in Augsburg mit direkter Publikumsbeteiligung\nSpannender Kriminalfall voller Wendungen\, Lügen und Indizien\nLive-Schauspiel & Gerichtsatmosphäre\, die unter die Haut geht\nAb 12 Jahren geeignet – ideal für Theater- und Mystery-Fans\nBarrierefreie Veranstaltung im modernen westhouse Augsburg\n\nVeranstaltungsdetails auf einen Blick\nOrt (Raum): Saal „Anna-Maria“\nDauer: ca. 75 Minuten\nEinlass: ab 60 Minuten vor Beginn\nFormat: Interaktives Live-Theater / Gerichtsdrama\n\nWarum du dieses Event nicht verpassen solltestDieses Event ist mehr als klassisches Theater:Du bist nicht nur Zuschauer\, sondern Teil der Geschichte. The Jury Experience im westhouse eignet sich perfekt für einen besonderen Abend zu zweit\, mit Freunden oder als außergewöhnliches Gruppenerlebnis in Augsburg. \nJetzt Tickets sichernErlebe ein interaktives Theater-Event der besonderen Art und werde Teil der Jury.Jetzt Tickets sichern und das Urteil selbst fällen!
URL:https://westhouse-augsburg.de/event/the-jury-experience-diamanten-luegen-und-ein-toter-mann/2026-04-11/2/
LOCATION:westhouse Augsburg (Eingang 5)\, Alfred-Nobel-Str. 5\, Augsburg\, Bayern\, 86156\, Deutschland
CATEGORIES:Live-Event
ATTACH;FMTTYPE=image/webp:https://westhouse-augsburg.de/wp-content/uploads/2026/01/The-Jury-Experience.webp
ORGANIZER;CN="fever":MAILTO:hello@feverup.com
END:VEVENT
BEGIN:VEVENT
DTSTART;TZID=Europe/Berlin:20260411T170000
DTEND;TZID=Europe/Berlin:20260411T181500
DTSTAMP:20260424T203352
CREATED:20260122T115341Z
LAST-MODIFIED:20260122T115341Z
UID:10000436-1775926800-1775931300@westhouse-augsburg.de
SUMMARY:The Jury Experience: Diamanten\, Lügen und ein toter Mann
DESCRIPTION:Interaktives Theater-Event im westhouse augsburgTauche ein in ein außergewöhnliches Live-Erlebnis und werde selbst Teil einer Gerichtsverhandlung:Bei „The Jury Experience: Diamanten\, Lügen und ein toter Mann“ nimmst du als Geschworene:r Platz\, analysierst Beweise\, hörst Zeugenaussagen und entscheidest am Ende über Schuld oder Unschuld. Dieses interaktive Theaterformat verbindet Spannung\, Drama und Mitbestimmung auf einzigartige Weise – live im westhouse augsburg. \nWas ist The Jury Experience?The Jury Experience ist ein immersives Theater-Event\, bei dem das Publikum aktiv in die Handlung eingebunden wird. Im Mittelpunkt steht ein mysteriöser Mordfall rund um eine verschwundene Diamantenkette im Wert von 20 Millionen Dollar. Jede Entscheidung der Jury beeinflusst den Ausgang der Geschichte. \nDas erwartet dich im westhouse\nInteraktives Theater in Augsburg mit direkter Publikumsbeteiligung\nSpannender Kriminalfall voller Wendungen\, Lügen und Indizien\nLive-Schauspiel & Gerichtsatmosphäre\, die unter die Haut geht\nAb 12 Jahren geeignet – ideal für Theater- und Mystery-Fans\nBarrierefreie Veranstaltung im modernen westhouse Augsburg\n\nVeranstaltungsdetails auf einen Blick\nOrt (Raum): Saal „Anna-Maria“\nDauer: ca. 75 Minuten\nEinlass: ab 60 Minuten vor Beginn\nFormat: Interaktives Live-Theater / Gerichtsdrama\n\nWarum du dieses Event nicht verpassen solltestDieses Event ist mehr als klassisches Theater:Du bist nicht nur Zuschauer\, sondern Teil der Geschichte. The Jury Experience im westhouse eignet sich perfekt für einen besonderen Abend zu zweit\, mit Freunden oder als außergewöhnliches Gruppenerlebnis in Augsburg. \nJetzt Tickets sichernErlebe ein interaktives Theater-Event der besonderen Art und werde Teil der Jury.Jetzt Tickets sichern und das Urteil selbst fällen!
URL:https://westhouse-augsburg.de/event/the-jury-experience-diamanten-luegen-und-ein-toter-mann/2026-04-11/1/
LOCATION:westhouse Augsburg (Eingang 5)\, Alfred-Nobel-Str. 5\, Augsburg\, Bayern\, 86156\, Deutschland
CATEGORIES:Live-Event
ATTACH;FMTTYPE=image/webp:https://westhouse-augsburg.de/wp-content/uploads/2026/01/The-Jury-Experience.webp
ORGANIZER;CN="fever":MAILTO:hello@feverup.com
END:VEVENT
BEGIN:VEVENT
DTSTART;TZID=Europe/Berlin:20260327T203000
DTEND;TZID=Europe/Berlin:20260327T214500
DTSTAMP:20260424T203352
CREATED:20260122T115341Z
LAST-MODIFIED:20260122T115341Z
UID:10000435-1774643400-1774647900@westhouse-augsburg.de
SUMMARY:The Jury Experience: Diamanten\, Lügen und ein toter Mann
DESCRIPTION:Interaktives Theater-Event im westhouse augsburgTauche ein in ein außergewöhnliches Live-Erlebnis und werde selbst Teil einer Gerichtsverhandlung:Bei „The Jury Experience: Diamanten\, Lügen und ein toter Mann“ nimmst du als Geschworene:r Platz\, analysierst Beweise\, hörst Zeugenaussagen und entscheidest am Ende über Schuld oder Unschuld. Dieses interaktive Theaterformat verbindet Spannung\, Drama und Mitbestimmung auf einzigartige Weise – live im westhouse augsburg. \nWas ist The Jury Experience?The Jury Experience ist ein immersives Theater-Event\, bei dem das Publikum aktiv in die Handlung eingebunden wird. Im Mittelpunkt steht ein mysteriöser Mordfall rund um eine verschwundene Diamantenkette im Wert von 20 Millionen Dollar. Jede Entscheidung der Jury beeinflusst den Ausgang der Geschichte. \nDas erwartet dich im westhouse\nInteraktives Theater in Augsburg mit direkter Publikumsbeteiligung\nSpannender Kriminalfall voller Wendungen\, Lügen und Indizien\nLive-Schauspiel & Gerichtsatmosphäre\, die unter die Haut geht\nAb 12 Jahren geeignet – ideal für Theater- und Mystery-Fans\nBarrierefreie Veranstaltung im modernen westhouse Augsburg\n\nVeranstaltungsdetails auf einen Blick\nOrt (Raum): Saal „Anna-Maria“\nDauer: ca. 75 Minuten\nEinlass: ab 60 Minuten vor Beginn\nFormat: Interaktives Live-Theater / Gerichtsdrama\n\nWarum du dieses Event nicht verpassen solltestDieses Event ist mehr als klassisches Theater:Du bist nicht nur Zuschauer\, sondern Teil der Geschichte. The Jury Experience im westhouse eignet sich perfekt für einen besonderen Abend zu zweit\, mit Freunden oder als außergewöhnliches Gruppenerlebnis in Augsburg. \nJetzt Tickets sichernErlebe ein interaktives Theater-Event der besonderen Art und werde Teil der Jury.Jetzt Tickets sichern und das Urteil selbst fällen!
URL:https://westhouse-augsburg.de/event/the-jury-experience-diamanten-luegen-und-ein-toter-mann/2026-03-27/2/
LOCATION:westhouse Augsburg (Eingang 5)\, Alfred-Nobel-Str. 5\, Augsburg\, Bayern\, 86156\, Deutschland
CATEGORIES:Live-Event
ATTACH;FMTTYPE=image/webp:https://westhouse-augsburg.de/wp-content/uploads/2026/01/The-Jury-Experience.webp
ORGANIZER;CN="fever":MAILTO:hello@feverup.com
END:VEVENT
BEGIN:VEVENT
DTSTART;TZID=Europe/Berlin:20260327T180000
DTEND;TZID=Europe/Berlin:20260327T191500
DTSTAMP:20260424T203352
CREATED:20260122T115341Z
LAST-MODIFIED:20260122T115341Z
UID:10000434-1774634400-1774638900@westhouse-augsburg.de
SUMMARY:The Jury Experience: Diamanten\, Lügen und ein toter Mann
DESCRIPTION:Interaktives Theater-Event im westhouse augsburgTauche ein in ein außergewöhnliches Live-Erlebnis und werde selbst Teil einer Gerichtsverhandlung:Bei „The Jury Experience: Diamanten\, Lügen und ein toter Mann“ nimmst du als Geschworene:r Platz\, analysierst Beweise\, hörst Zeugenaussagen und entscheidest am Ende über Schuld oder Unschuld. Dieses interaktive Theaterformat verbindet Spannung\, Drama und Mitbestimmung auf einzigartige Weise – live im westhouse augsburg. \nWas ist The Jury Experience?The Jury Experience ist ein immersives Theater-Event\, bei dem das Publikum aktiv in die Handlung eingebunden wird. Im Mittelpunkt steht ein mysteriöser Mordfall rund um eine verschwundene Diamantenkette im Wert von 20 Millionen Dollar. Jede Entscheidung der Jury beeinflusst den Ausgang der Geschichte. \nDas erwartet dich im westhouse\nInteraktives Theater in Augsburg mit direkter Publikumsbeteiligung\nSpannender Kriminalfall voller Wendungen\, Lügen und Indizien\nLive-Schauspiel & Gerichtsatmosphäre\, die unter die Haut geht\nAb 12 Jahren geeignet – ideal für Theater- und Mystery-Fans\nBarrierefreie Veranstaltung im modernen westhouse Augsburg\n\nVeranstaltungsdetails auf einen Blick\nOrt (Raum): Saal „Anna-Maria“\nDauer: ca. 75 Minuten\nEinlass: ab 60 Minuten vor Beginn\nFormat: Interaktives Live-Theater / Gerichtsdrama\n\nWarum du dieses Event nicht verpassen solltestDieses Event ist mehr als klassisches Theater:Du bist nicht nur Zuschauer\, sondern Teil der Geschichte. The Jury Experience im westhouse eignet sich perfekt für einen besonderen Abend zu zweit\, mit Freunden oder als außergewöhnliches Gruppenerlebnis in Augsburg. \nJetzt Tickets sichernErlebe ein interaktives Theater-Event der besonderen Art und werde Teil der Jury.Jetzt Tickets sichern und das Urteil selbst fällen!
URL:https://westhouse-augsburg.de/event/the-jury-experience-diamanten-luegen-und-ein-toter-mann/2026-03-27/1/
LOCATION:westhouse Augsburg (Eingang 5)\, Alfred-Nobel-Str. 5\, Augsburg\, Bayern\, 86156\, Deutschland
CATEGORIES:Live-Event
ATTACH;FMTTYPE=image/webp:https://westhouse-augsburg.de/wp-content/uploads/2026/01/The-Jury-Experience.webp
ORGANIZER;CN="fever":MAILTO:hello@feverup.com
END:VEVENT
BEGIN:VEVENT
DTSTART;TZID=Europe/Berlin:20260315T190000
DTEND;TZID=Europe/Berlin:20260315T190000
DTSTAMP:20260424T203352
CREATED:20260127T094958Z
LAST-MODIFIED:20260127T095012Z
UID:10000439-1773601200-1773601200@westhouse-augsburg.de
SUMMARY:„Baritone & Friends“ – Jazzkonzert im westhouse
DESCRIPTION:Am 15. März 2026 findet in der Reihe westhouse music das nächste großartige Live Konzert statt. Nun schon zum dritten Mal findet der Auftritt der Bigband „Baritone & Friends“ statt\, die in lockerer Atmosphäre im großen Saal des westhouse spielen wird. In einer losen Reihe von Konzerten treten regelmäßig Bands verschiedener Musikrichtungen im westhouse Augsburg auf. Veranstalter ist der gemeinnützige Verein westhouse community e.V. \nDie Arrangements der großen Jazzorchester möglichst Original auf die Bühne zu bringen und die Spielfreude der Solisten nicht zu kurz kommen lassen. Das ist der Antrieb für die zwanzig Musikerinnen und Musiker aus „Greater Augsburg“. Swing wie Count Basie\, Blues und Funk wie Thad Jones oder Peter Herbolzheimer\, der die Band\, wie auch Thomas Zoller und andere\, bei intensiven Workshops nachhaltig beeinflusst hat\, prägen neben Komponisten jüngeren Datums das Programm. In der aktuellen Besetzung finden sich bekannte Jazzaktivisten wie Arnold Fritscher\, Werner Gröbner oder Hubert Malik mit jüngeren Talenten wieder. \nDas coole Instrument (großes Saxophon) und seine Freunde klicken wieder den Like-Button für Thad Jones\, Count Basie\, Peter Herbolzheimer und andere Big Band Größen des Jazz. Solche Klänge gibt’s nur in einem Jazzorchester. Diese Faszination dafür\, Jazzharmonien mit dem nötigen rhythmischen Drive und der Dynamik von 20 MusikerInnen zu verbinden\, die auch noch solistisch improvisieren wollen\, bringt dieser Augsburger Band Dinosaurier so unbeschreiblich auf die Bühne. \nKurz und gut – ein Pflichttermin nicht nur für Jazz-Fans! \nFreuen Sie sich auf einen stimmungsvollen Abend mit „Baritone & Friends“. Eintrittskarten zum Preis von 20 Euro gibt es an der Abendkasse. Menschen mit Schwerbehindertenausweis zum halben Preis. Einlass ist ab 18.00 UHR. Kartenvorbestellung per Mail an: info@westhouse-community.de oder Telefon 0821/9059630 oder online https://pretix.eu/eventswesthouse/zqnnx/ \nGünstiges Parken in der Tiefgarage – zu 1\,50 Euro pro Stunde.
URL:https://westhouse-augsburg.de/event/baritone-friends-jazzkonzert-im-westhouse-maerz/
LOCATION:westhouse Augsburg (Eingang 5)\, Alfred-Nobel-Str. 5\, Augsburg\, Bayern\, 86156\, Deutschland
CATEGORIES:Konzert
ATTACH;FMTTYPE=image/webp:https://westhouse-augsburg.de/wp-content/uploads/2026/01/Baritone-and-Friends-im-Maerz.webp
ORGANIZER;CN="westhouse community e.V.":MAILTO:info@westhouse-community.de
END:VEVENT
BEGIN:VEVENT
DTSTART;TZID=Europe/Berlin:20260204T100000
DTEND;TZID=Europe/Berlin:20260204T130000
DTSTAMP:20260424T203353
CREATED:20260123T103338Z
LAST-MODIFIED:20260123T103338Z
UID:10000438-1770199200-1770210000@westhouse-augsburg.de
SUMMARY:Universitätsmedizin Augsburg – Motor für Innovation und Wirtschaftskraft
DESCRIPTION:Impulsveranstaltung im westhouse AugsburgDie Universitätsmedizin Augsburg steht für weit mehr als exzellente medizinische Versorgung: Sie entwickelt sich zu einem entscheidenden Motor für Innovation\, Technologietransfer und regionale Wirtschaftskraft. Wie genau Wirtschaft\, Start-ups\, Forschungseinrichtungen und die gesamte Region Augsburg von dieser Entwicklung profitieren können\, beleuchten wir gemeinsam in dieser hochkarätig besetzten Veranstaltung im westhouse Augsburg. \nWarum dieses Event so wichtig istDer Aufbau des Medizincampus und der geplante Neubau des Universitätsklinikums Augsburg schaffen nicht nur neue Perspektiven für die Gesundheitsversorgung\, sondern auch erhebliche wirtschaftliche Potenziale – etwa durch: \n\nInnovationstransfer aus Forschung und Medizin in die Wirtschaft\nKooperationen zwischen Universitätsmedizin und Unternehmen\nStart-up-Gründungen und Technologietransfer\nRegionale Wertschöpfung und ArbeitsplätzeDiese Aspekte machen Augsburg zu einem attraktiven Standort für Zukunftstechnologien und nachhaltige Wirtschaftsentwicklung.\n\nHighlights & Programm-Einblicke\nBegrüßung und Impulse von Vertreter:innen aus Politik und Wissenschaftu. a. durch die Oberbürgermeisterin von Augsburg\, Eva Weber\, und Prof. Dr. Klaus Markstaller vom Universitätsklinikum Augsburg.\nChancen der Universitätsmedizin für die Wirtschaftsregion Augsburgmit Fokus auf Kooperationen\, Innovationstransfer und Netzwerkeffekte.\nPraxisnahe Panel-Diskussionen mit Expert:innen aus Gesundheitswirtschaft\, Forschung und Industrie.\nKonkrete Perspektiven für Start-ups\, Unternehmen und Forschungseinrichtungen – wie medizinische Innovationen ökonomisch wirksam werden.\n\nZielgruppeDiese Veranstaltung richtet sich an:\n✔ Unternehmen und Start-ups✔ Forschungs- und Hochschulakteur:innen✔ Entscheider:innen aus Wirtschaft und Politik✔ alle\, die an regionaler Innovations- und Wirtschaftsentwicklung interessiert sind \nWarum du teilnehmen solltestProfitiere von: \n\nwertvollen Einblicken in Zukunftsfelder der Gesundheitswirtschaft\nVernetzungsmöglichkeiten mit Entscheidern und Experten\nkonkreten Impulsen für die Entwicklung eigener Innovations- und Kooperationsstrategien\n\nJetzt anmeldenSichere dir deinen Platz für diese impulsreiche Veranstaltung im westhouse Augsburg und werde Teil der Diskussion über den Motor für Innovation und Wirtschaftskraft in Augsburg.
URL:https://westhouse-augsburg.de/event/universitaetsmedizin-augsburg-motor-fuer-innovation-und-wirtschaftskraft/
LOCATION:westhouse Augsburg (Eingang 5)\, Alfred-Nobel-Str. 5\, Augsburg\, Bayern\, 86156\, Deutschland
CATEGORIES:Live-Event,Vortrag
ATTACH;FMTTYPE=image/webp:https://westhouse-augsburg.de/wp-content/uploads/2026/01/Universitaetsklinikum-Augsburg-und-Gesundheitswirtschaft-Motor-fuer-Innovation-und-Wirtschaftskraft.webp
ORGANIZER;CN="Regio Augsburg Wirtschaft GmbH":MAILTO:info@region-A3.com
END:VEVENT
END:VCALENDAR